BEGIN:VCALENDAR
VERSION:2.0
PRODID:-//Matthew Walker Comprehensive Health Center - ECPv6.15.20//NONSGML v1.0//EN
CALSCALE:GREGORIAN
METHOD:PUBLISH
X-ORIGINAL-URL:https://mwchc.org
X-WR-CALDESC:Events for Matthew Walker Comprehensive Health Center
REFRESH-INTERVAL;VALUE=DURATION:PT1H
X-Robots-Tag:noindex
X-PUBLISHED-TTL:PT1H
BEGIN:VTIMEZONE
TZID:UTC
BEGIN:STANDARD
TZOFFSETFROM:+0000
TZOFFSETTO:+0000
TZNAME:UTC
DTSTART:20250101T000000
END:STANDARD
END:VTIMEZONE
BEGIN:VEVENT
DTSTART;TZID=UTC:20260418T110000
DTEND;TZID=UTC:20260418T130000
DTSTAMP:20260422T232952
CREATED:20260115T195512Z
LAST-MODIFIED:20260309T211010Z
UID:254528-1776510000-1776517200@mwchc.org
SUMMARY:Mommy To "Bee" Baby Shower
DESCRIPTION:Annual Baby Shower for our patients who are pregnant or with a child 6 months old or less at the time of the shower.\nScan the QR Code to register while spaces are available.\nIf you are an agency and would like to participate or make a donation please contact shanika.kidd@mwchc.org.\nclick here for more information and to register!\n  \n 
URL:https://mwchc.org/event/baby-shower/
LOCATION:Matthew Walker Comprehensive Health Center (Nashville Location)\, 1035 14th Avenue N\, Nashville\, TN\, 37208\, United States
ORGANIZER;CN="shanika Kidd":MAILTO:shanika.kidd@mwchc.org
END:VEVENT
END:VCALENDAR